BEGIN:VCALENDAR
VERSION:2.0
PRODID:-//Corran College, Ballymote, Co. Sligo  - ECPv6.15.20//NONSGML v1.0//EN
CALSCALE:GREGORIAN
METHOD:PUBLISH
X-ORIGINAL-URL:https://www.corrancollege.ie
X-WR-CALDESC:Events for Corran College, Ballymote, Co. Sligo 
REFRESH-INTERVAL;VALUE=DURATION:PT1H
X-Robots-Tag:noindex
X-PUBLISHED-TTL:PT1H
BEGIN:VTIMEZONE
TZID:Europe/Dublin
BEGIN:DAYLIGHT
TZOFFSETFROM:+0000
TZOFFSETTO:+0100
TZNAME:IST
DTSTART:20250330T010000
END:DAYLIGHT
BEGIN:STANDARD
TZOFFSETFROM:+0100
TZOFFSETTO:+0000
TZNAME:GMT
DTSTART:20251026T010000
END:STANDARD
BEGIN:DAYLIGHT
TZOFFSETFROM:+0000
TZOFFSETTO:+0100
TZNAME:IST
DTSTART:20260329T010000
END:DAYLIGHT
BEGIN:STANDARD
TZOFFSETFROM:+0100
TZOFFSETTO:+0000
TZNAME:GMT
DTSTART:20261025T010000
END:STANDARD
BEGIN:DAYLIGHT
TZOFFSETFROM:+0000
TZOFFSETTO:+0100
TZNAME:IST
DTSTART:20270328T010000
END:DAYLIGHT
BEGIN:STANDARD
TZOFFSETFROM:+0100
TZOFFSETTO:+0000
TZNAME:GMT
DTSTART:20271031T010000
END:STANDARD
END:VTIMEZONE
BEGIN:VEVENT
DTSTART;VALUE=DATE:20260202
DTEND;VALUE=DATE:20260203
DTSTAMP:20260425T181625
CREATED:20250923T105711Z
LAST-MODIFIED:20250923T105711Z
UID:2532-1769990400-1770076799@www.corrancollege.ie
SUMMARY:Bank Holiday
DESCRIPTION:School closed
URL:https://www.corrancollege.ie/event/bank-holiday-3/
END:VEVENT
BEGIN:VEVENT
DTSTART;TZID=Europe/Dublin:20260205T160000
DTEND;TZID=Europe/Dublin:20260205T180000
DTSTAMP:20260425T181625
CREATED:20250923T105824Z
LAST-MODIFIED:20250923T105824Z
UID:2534-1770307200-1770314400@www.corrancollege.ie
SUMMARY:Parent Teacher Meeting
DESCRIPTION:Parent teacher meeting for 1st Year students.
URL:https://www.corrancollege.ie/event/parent-teacher-meeting-3/
END:VEVENT
BEGIN:VEVENT
DTSTART;TZID=Europe/Dublin:20260209T080000
DTEND;TZID=Europe/Dublin:20260213T170000
DTSTAMP:20260425T181625
CREATED:20250923T110123Z
LAST-MODIFIED:20250923T110123Z
UID:2538-1770624000-1771002000@www.corrancollege.ie
SUMMARY:Mocks & 5th Year Work Exp
DESCRIPTION:Mock for 3rd and 6th  year students. 5th year students will be on work experience
URL:https://www.corrancollege.ie/event/mocks-5th-year-work-exp/
END:VEVENT
BEGIN:VEVENT
DTSTART;VALUE=DATE:20260216
DTEND;VALUE=DATE:20260221
DTSTAMP:20260425T181625
CREATED:20250923T105915Z
LAST-MODIFIED:20250923T105915Z
UID:2536-1771200000-1771631999@www.corrancollege.ie
SUMMARY:Mid Term Break
DESCRIPTION:School Closed
URL:https://www.corrancollege.ie/event/mid-term-break-5/
END:VEVENT
END:VCALENDAR