BEGIN:VCALENDAR
VERSION:2.0
PRODID:-//Corran College, Ballymote, Co. Sligo  - ECPv6.15.20//NONSGML v1.0//EN
CALSCALE:GREGORIAN
METHOD:PUBLISH
X-ORIGINAL-URL:https://www.corrancollege.ie
X-WR-CALDESC:Events for Corran College, Ballymote, Co. Sligo 
REFRESH-INTERVAL;VALUE=DURATION:PT1H
X-Robots-Tag:noindex
X-PUBLISHED-TTL:PT1H
BEGIN:VTIMEZONE
TZID:Europe/Dublin
BEGIN:DAYLIGHT
TZOFFSETFROM:+0000
TZOFFSETTO:+0100
TZNAME:IST
DTSTART:20240331T010000
END:DAYLIGHT
BEGIN:STANDARD
TZOFFSETFROM:+0100
TZOFFSETTO:+0000
TZNAME:GMT
DTSTART:20241027T010000
END:STANDARD
BEGIN:DAYLIGHT
TZOFFSETFROM:+0000
TZOFFSETTO:+0100
TZNAME:IST
DTSTART:20250330T010000
END:DAYLIGHT
BEGIN:STANDARD
TZOFFSETFROM:+0100
TZOFFSETTO:+0000
TZNAME:GMT
DTSTART:20251026T010000
END:STANDARD
BEGIN:DAYLIGHT
TZOFFSETFROM:+0000
TZOFFSETTO:+0100
TZNAME:IST
DTSTART:20260329T010000
END:DAYLIGHT
BEGIN:STANDARD
TZOFFSETFROM:+0100
TZOFFSETTO:+0000
TZNAME:GMT
DTSTART:20261025T010000
END:STANDARD
END:VTIMEZONE
BEGIN:VEVENT
DTSTART;VALUE=DATE:20251103
DTEND;VALUE=DATE:20251104
DTSTAMP:20260425T230025
CREATED:20250924T095619Z
LAST-MODIFIED:20250924T095619Z
UID:2569-1762128000-1762214399@www.corrancollege.ie
SUMMARY:School Closed
DESCRIPTION:Subject cluster day.
URL:https://www.corrancollege.ie/event/school-closed-2/
END:VEVENT
BEGIN:VEVENT
DTSTART;TZID=Europe/Dublin:20251105T160000
DTEND;TZID=Europe/Dublin:20251105T180000
DTSTAMP:20260425T230025
CREATED:20250923T103727Z
LAST-MODIFIED:20250923T103727Z
UID:2520-1762358400-1762365600@www.corrancollege.ie
SUMMARY:Parent Teacher Meeting
DESCRIPTION:Parent Teacher Meeting for 3rd and 6th year students will take place from 4:15pm to 6:00pm
URL:https://www.corrancollege.ie/event/parent-teacher-meeting/
END:VEVENT
BEGIN:VEVENT
DTSTART;TZID=Europe/Dublin:20251111T180000
DTEND;TZID=Europe/Dublin:20251111T200000
DTSTAMP:20260425T230025
CREATED:20250923T103914Z
LAST-MODIFIED:20250923T103914Z
UID:2522-1762884000-1762891200@www.corrancollege.ie
SUMMARY:Open Night
DESCRIPTION:Open night for incoming 1st year students will take place. 6:00pm-8:00pm
URL:https://www.corrancollege.ie/event/open-night/
END:VEVENT
BEGIN:VEVENT
DTSTART;VALUE=DATE:20251119
DTEND;VALUE=DATE:20251120
DTSTAMP:20260425T230025
CREATED:20250924T095729Z
LAST-MODIFIED:20250924T095729Z
UID:2571-1763510400-1763596799@www.corrancollege.ie
SUMMARY:School Closed
DESCRIPTION:Teacher training day.
URL:https://www.corrancollege.ie/event/school-closed-3/
END:VEVENT
END:VCALENDAR