BEGIN:VCALENDAR
VERSION:2.0
PRODID:-//Corran College, Ballymote, Co. Sligo  - ECPv6.15.20//NONSGML v1.0//EN
CALSCALE:GREGORIAN
METHOD:PUBLISH
X-ORIGINAL-URL:https://www.corrancollege.ie
X-WR-CALDESC:Events for Corran College, Ballymote, Co. Sligo 
REFRESH-INTERVAL;VALUE=DURATION:PT1H
X-Robots-Tag:noindex
X-PUBLISHED-TTL:PT1H
BEGIN:VTIMEZONE
TZID:Europe/Dublin
BEGIN:DAYLIGHT
TZOFFSETFROM:+0000
TZOFFSETTO:+0100
TZNAME:IST
DTSTART:20200329T010000
END:DAYLIGHT
BEGIN:STANDARD
TZOFFSETFROM:+0100
TZOFFSETTO:+0000
TZNAME:GMT
DTSTART:20201025T010000
END:STANDARD
BEGIN:DAYLIGHT
TZOFFSETFROM:+0000
TZOFFSETTO:+0100
TZNAME:IST
DTSTART:20210328T010000
END:DAYLIGHT
BEGIN:STANDARD
TZOFFSETFROM:+0100
TZOFFSETTO:+0000
TZNAME:GMT
DTSTART:20211031T010000
END:STANDARD
BEGIN:DAYLIGHT
TZOFFSETFROM:+0000
TZOFFSETTO:+0100
TZNAME:IST
DTSTART:20220327T010000
END:DAYLIGHT
BEGIN:STANDARD
TZOFFSETFROM:+0100
TZOFFSETTO:+0000
TZNAME:GMT
DTSTART:20221030T010000
END:STANDARD
END:VTIMEZONE
BEGIN:VEVENT
DTSTART;VALUE=DATE:20210303
DTEND;VALUE=DATE:20210304
DTSTAMP:20260422T110458
CREATED:20200910T201840Z
LAST-MODIFIED:20200910T201840Z
UID:600-1614729600-1614815999@www.corrancollege.ie
SUMMARY:1 st\, 2 nd\, 5 th and LCA1 Parent teacher meeting
DESCRIPTION:
URL:https://www.corrancollege.ie/event/1-st-2-nd-5-th-and-lca1-parent-teacher-meeting/
LOCATION:Corran College\, Marren Park\, Rathnakelliga\, Ballymote\, Sligo\, F56 DP86\, Ireland
CATEGORIES:General
ATTACH;FMTTYPE=image/jpeg:https://www.corrancollege.ie/wp-content/uploads/2020/06/og-corran-college.jpg
ORGANIZER;CN="Corran College":MAILTO:info@corrancollege.ie
END:VEVENT
BEGIN:VEVENT
DTSTART;VALUE=DATE:20210317
DTEND;VALUE=DATE:20210318
DTSTAMP:20260422T110458
CREATED:20200910T201307Z
LAST-MODIFIED:20200910T201405Z
UID:587-1615939200-1616025599@www.corrancollege.ie
SUMMARY:St Patrick’s Day
DESCRIPTION:
URL:https://www.corrancollege.ie/event/st-patricks-day/
LOCATION:Corran College\, Marren Park\, Rathnakelliga\, Ballymote\, Sligo\, F56 DP86\, Ireland
CATEGORIES:General
ATTACH;FMTTYPE=image/jpeg:https://www.corrancollege.ie/wp-content/uploads/2020/06/og-corran-college.jpg
ORGANIZER;CN="Corran College":MAILTO:info@corrancollege.ie
END:VEVENT
BEGIN:VEVENT
DTSTART;VALUE=DATE:20210329
DTEND;VALUE=DATE:20210410
DTSTAMP:20260422T110458
CREATED:20200910T201320Z
LAST-MODIFIED:20200910T201320Z
UID:588-1616976000-1618012799@www.corrancollege.ie
SUMMARY:Easter Holidays
DESCRIPTION:
URL:https://www.corrancollege.ie/event/easter-holidays/
LOCATION:Corran College\, Marren Park\, Rathnakelliga\, Ballymote\, Sligo\, F56 DP86\, Ireland
CATEGORIES:General
ATTACH;FMTTYPE=image/jpeg:https://www.corrancollege.ie/wp-content/uploads/2020/06/og-corran-college.jpg
ORGANIZER;CN="Corran College":MAILTO:info@corrancollege.ie
END:VEVENT
END:VCALENDAR